BEGIN:VCALENDAR
VERSION:2.0
PRODID:-//hacksw/handcal//NONSGML v1.0//EN
CALSCALE:GREGORIAN
BEGIN:VEVENT
DTSTART;TZID=Europe/Istanbul:20240131
DTEND;TZID=Europe/Istanbul:20240131T235959
DESCRIPTION:Zuhal Demirarslan ile İlham Veren Sohbetler 
SUMMARY:Zuhal Demirarslan ile İlham Veren Sohbetler 
URL;VALUE=URI:https://modadenizkulubu.org.tr/etkinlikler/907
DTSTAMP:20260422T005030Z
UID:etkinlik-69e81b5649d8a@modadenizkulubu.org.tr
END:VEVENT
END:VCALENDAR
