BEGIN:VCALENDAR
VERSION:2.0
PRODID:-//hacksw/handcal//NONSGML v1.0//EN
CALSCALE:GREGORIAN
BEGIN:VEVENT
DTSTART;TZID=Europe/Istanbul:20250405
DTEND;TZID=Europe/Istanbul:20250405T235959
DESCRIPTION:Yol Project	
SUMMARY:Yol Project	
URL;VALUE=URI:https://modadenizkulubu.org.tr/etkinlikler/1096
DTSTAMP:20260421T114029Z
UID:etkinlik-69e7622d1a65a@modadenizkulubu.org.tr
END:VEVENT
END:VCALENDAR
