BEGIN:VCALENDAR
VERSION:2.0
PRODID:-//hacksw/handcal//NONSGML v1.0//EN
CALSCALE:GREGORIAN
BEGIN:VEVENT
DTSTART;TZID=Europe/Istanbul:20240528
DTEND;TZID=Europe/Istanbul:20240528T235959
DESCRIPTION:Yeni Bir SEN İçin Nefes Al
SUMMARY:Yeni Bir SEN İçin Nefes Al
URL;VALUE=URI:https://modadenizkulubu.org.tr/etkinlikler/972
DTSTAMP:20260421T180606Z
UID:etkinlik-69e7bc8e385f6@modadenizkulubu.org.tr
END:VEVENT
END:VCALENDAR
