BEGIN:VCALENDAR
VERSION:2.0
PRODID:-//hacksw/handcal//NONSGML v1.0//EN
CALSCALE:GREGORIAN
BEGIN:VEVENT
DTSTART;TZID=Europe/Istanbul:20250313
DTEND;TZID=Europe/Istanbul:20250313T235959
DESCRIPTION:Yemekli Tiyatro “Güne Bakan Cam Kırıkları'' 
SUMMARY:Yemekli Tiyatro “Güne Bakan Cam Kırıkları'' 
URL;VALUE=URI:https://modadenizkulubu.org.tr/etkinlikler/1091
DTSTAMP:20260421T130337Z
UID:etkinlik-69e775a946bb1@modadenizkulubu.org.tr
END:VEVENT
END:VCALENDAR
