BEGIN:VCALENDAR
VERSION:2.0
PRODID:-//hacksw/handcal//NONSGML v1.0//EN
CALSCALE:GREGORIAN
BEGIN:VEVENT
DTSTART;TZID=Europe/Istanbul:20240327
DTEND;TZID=Europe/Istanbul:20240327T235959
DESCRIPTION:Yemekli Tiyatro 
SUMMARY:Yemekli Tiyatro 
URL;VALUE=URI:https://modadenizkulubu.org.tr/etkinlikler/941
DTSTAMP:20260421T213125Z
UID:etkinlik-69e7ecaddcc0d@modadenizkulubu.org.tr
END:VEVENT
END:VCALENDAR
