BEGIN:VCALENDAR
VERSION:2.0
PRODID:-//hacksw/handcal//NONSGML v1.0//EN
CALSCALE:GREGORIAN
BEGIN:VEVENT
DTSTART;TZID=Europe/Istanbul:20250209
DTEND;TZID=Europe/Istanbul:20250209T235959
DESCRIPTION:Yarıyıl Tatili Çocuk Şenliği
SUMMARY:Yarıyıl Tatili Çocuk Şenliği
URL;VALUE=URI:https://modadenizkulubu.org.tr/etkinlikler/1076
DTSTAMP:20260421T144229Z
UID:etkinlik-69e78cd5d9b07@modadenizkulubu.org.tr
END:VEVENT
END:VCALENDAR
