BEGIN:VCALENDAR
VERSION:2.0
PRODID:-//hacksw/handcal//NONSGML v1.0//EN
CALSCALE:GREGORIAN
BEGIN:VEVENT
DTSTART;TZID=Europe/Istanbul:20230323
DTEND;TZID=Europe/Istanbul:20230323T235959
DESCRIPTION:Yapılarımız Depreme Hazır mı?
SUMMARY:Yapılarımız Depreme Hazır mı?
URL;VALUE=URI:https://modadenizkulubu.org.tr/etkinlikler/770
DTSTAMP:20260422T055038Z
UID:etkinlik-69e861aebad3b@modadenizkulubu.org.tr
END:VEVENT
END:VCALENDAR
