BEGIN:VCALENDAR
VERSION:2.0
PRODID:-//hacksw/handcal//NONSGML v1.0//EN
CALSCALE:GREGORIAN
BEGIN:VEVENT
DTSTART;TZID=Europe/Istanbul:20240521
DTEND;TZID=Europe/Istanbul:20240521T235959
DESCRIPTION:TEB ile 2024 Finans Beklentileri
SUMMARY:TEB ile 2024 Finans Beklentileri
URL;VALUE=URI:https://modadenizkulubu.org.tr/etkinlikler/971
DTSTAMP:20260421T180355Z
UID:etkinlik-69e7bc0b4ce20@modadenizkulubu.org.tr
END:VEVENT
END:VCALENDAR
