BEGIN:VCALENDAR
VERSION:2.0
PRODID:-//hacksw/handcal//NONSGML v1.0//EN
CALSCALE:GREGORIAN
BEGIN:VEVENT
DTSTART;TZID=Europe/Istanbul:20250228
DTEND;TZID=Europe/Istanbul:20250228T235959
DESCRIPTION:Tapas Saatleri
SUMMARY:Tapas Saatleri
URL;VALUE=URI:https://modadenizkulubu.org.tr/etkinlikler/1084
DTSTAMP:20260421T144247Z
UID:etkinlik-69e78ce76e039@modadenizkulubu.org.tr
END:VEVENT
END:VCALENDAR
