BEGIN:VCALENDAR
VERSION:2.0
PRODID:-//hacksw/handcal//NONSGML v1.0//EN
CALSCALE:GREGORIAN
BEGIN:VEVENT
DTSTART;TZID=Europe/Istanbul:20230427
DTEND;TZID=Europe/Istanbul:20230427T235959
DESCRIPTION:Sohbet Etkinliği
SUMMARY:Sohbet Etkinliği
URL;VALUE=URI:https://modadenizkulubu.org.tr/etkinlikler/782
DTSTAMP:20260422T132703Z
UID:etkinlik-69e8cca779497@modadenizkulubu.org.tr
END:VEVENT
END:VCALENDAR
