BEGIN:VCALENDAR
VERSION:2.0
PRODID:-//hacksw/handcal//NONSGML v1.0//EN
CALSCALE:GREGORIAN
BEGIN:VEVENT
DTSTART;TZID=Europe/Istanbul:20230517
DTEND;TZID=Europe/Istanbul:20230517T235959
DESCRIPTION:Sohbet Etkinliği 
SUMMARY:Sohbet Etkinliği 
URL;VALUE=URI:https://modadenizkulubu.org.tr/etkinlikler/776
DTSTAMP:20260422T023427Z
UID:etkinlik-69e833b3336f5@modadenizkulubu.org.tr
END:VEVENT
END:VCALENDAR
