BEGIN:VCALENDAR
VERSION:2.0
PRODID:-//hacksw/handcal//NONSGML v1.0//EN
CALSCALE:GREGORIAN
BEGIN:VEVENT
DTSTART;TZID=Europe/Istanbul:20240120
DTEND;TZID=Europe/Istanbul:20240120T235959
DESCRIPTION:Sibel Tüzün
SUMMARY:Sibel Tüzün
URL;VALUE=URI:https://modadenizkulubu.org.tr/etkinlikler/905
DTSTAMP:20260422T004912Z
UID:etkinlik-69e81b08f382a@modadenizkulubu.org.tr
END:VEVENT
END:VCALENDAR
