BEGIN:VCALENDAR
VERSION:2.0
PRODID:-//hacksw/handcal//NONSGML v1.0//EN
CALSCALE:GREGORIAN
BEGIN:VEVENT
DTSTART;TZID=Europe/Istanbul:20260508T213000
DTEND;TZID=Europe/Istanbul:20260508
DESCRIPTION:Şenay Lambaoğlu 
SUMMARY:Şenay Lambaoğlu 
URL;VALUE=URI:https://www.modadenizkulubu.org.tr/etkinlikler/3239
DTSTAMP:20260420T151429Z
UID:etkinlik-69e642d5e5dd5@modadenizkulubu.org.tr
END:VEVENT
END:VCALENDAR
