BEGIN:VCALENDAR
VERSION:2.0
PRODID:-//hacksw/handcal//NONSGML v1.0//EN
CALSCALE:GREGORIAN
BEGIN:VEVENT
DTSTART;TZID=Europe/Istanbul:20250412
DTEND;TZID=Europe/Istanbul:20250412T235959
DESCRIPTION:Selen Servi	
SUMMARY:Selen Servi	
URL;VALUE=URI:https://modadenizkulubu.org.tr/etkinlikler/1098
DTSTAMP:20260421T114300Z
UID:etkinlik-69e762c428eff@modadenizkulubu.org.tr
END:VEVENT
END:VCALENDAR
