BEGIN:VCALENDAR
VERSION:2.0
PRODID:-//hacksw/handcal//NONSGML v1.0//EN
CALSCALE:GREGORIAN
BEGIN:VEVENT
DTSTART;TZID=Europe/Istanbul:20240525
DTEND;TZID=Europe/Istanbul:20240525T235959
DESCRIPTION:Selen Selvi
SUMMARY:Selen Selvi
URL;VALUE=URI:https://modadenizkulubu.org.tr/etkinlikler/967
DTSTAMP:20260421T180451Z
UID:etkinlik-69e7bc43e6a46@modadenizkulubu.org.tr
END:VEVENT
END:VCALENDAR
