BEGIN:VCALENDAR
VERSION:2.0
PRODID:-//hacksw/handcal//NONSGML v1.0//EN
CALSCALE:GREGORIAN
BEGIN:VEVENT
DTSTART;TZID=Europe/Istanbul:20250324
DTEND;TZID=Europe/Istanbul:20250324T235959
DESCRIPTION:Sağlıklı Yaşam Söyleşisi
SUMMARY:Sağlıklı Yaşam Söyleşisi
URL;VALUE=URI:https://modadenizkulubu.org.tr/etkinlikler/1093
DTSTAMP:20260421T130213Z
UID:etkinlik-69e775550f269@modadenizkulubu.org.tr
END:VEVENT
END:VCALENDAR
