BEGIN:VCALENDAR
VERSION:2.0
PRODID:-//hacksw/handcal//NONSGML v1.0//EN
CALSCALE:GREGORIAN
BEGIN:VEVENT
DTSTART;TZID=Europe/Istanbul:20230510
DTEND;TZID=Europe/Istanbul:20230510T235959
DESCRIPTION:Rakının Sırlarına Yolculuk
SUMMARY:Rakının Sırlarına Yolculuk
URL;VALUE=URI:https://modadenizkulubu.org.tr/etkinlikler/787
DTSTAMP:20260422T023304Z
UID:etkinlik-69e83360c7d67@modadenizkulubu.org.tr
END:VEVENT
END:VCALENDAR
