BEGIN:VCALENDAR
VERSION:2.0
PRODID:-//hacksw/handcal//NONSGML v1.0//EN
CALSCALE:GREGORIAN
BEGIN:VEVENT
DTSTART;TZID=Europe/Istanbul:20240318
DTEND;TZID=Europe/Istanbul:20240318T235959
DESCRIPTION:Prof. Dr. Sevtap Demirci ''Çanakkale Savaşı ve Atatürk ''
SUMMARY:Prof. Dr. Sevtap Demirci ''Çanakkale Savaşı ve Atatürk ''
URL;VALUE=URI:https://modadenizkulubu.org.tr/etkinlikler/940
DTSTAMP:20260421T213028Z
UID:etkinlik-69e7ec74731e4@modadenizkulubu.org.tr
END:VEVENT
END:VCALENDAR
