BEGIN:VCALENDAR
VERSION:2.0
PRODID:-//hacksw/handcal//NONSGML v1.0//EN
CALSCALE:GREGORIAN
BEGIN:VEVENT
DTSTART;TZID=Europe/Istanbul:20260213T213000
DTEND;TZID=Europe/Istanbul:20260213T010000
DESCRIPTION:Pınar Ünal Trio
SUMMARY:Pınar Ünal Trio
URL;VALUE=URI:https://modadenizkulubu.org.tr/etkinlikler/1253
DTSTAMP:20260418T112749Z
UID:etkinlik-69e36ab57dc27@modadenizkulubu.org.tr
END:VEVENT
END:VCALENDAR
