BEGIN:VCALENDAR
VERSION:2.0
PRODID:-//hacksw/handcal//NONSGML v1.0//EN
CALSCALE:GREGORIAN
BEGIN:VEVENT
DTSTART;TZID=Europe/Istanbul:20250131
DTEND;TZID=Europe/Istanbul:20250131T235959
DESCRIPTION:Oldies But Goldies Nite
SUMMARY:Oldies But Goldies Nite
URL;VALUE=URI:https://modadenizkulubu.org.tr/etkinlikler/1074
DTSTAMP:20260421T162834Z
UID:etkinlik-69e7a5b28768b@modadenizkulubu.org.tr
END:VEVENT
END:VCALENDAR
