BEGIN:VCALENDAR
VERSION:2.0
PRODID:-//hacksw/handcal//NONSGML v1.0//EN
CALSCALE:GREGORIAN
BEGIN:VEVENT
DTSTART;TZID=Europe/Istanbul:20240204
DTEND;TZID=Europe/Istanbul:20240204T235959
DESCRIPTION:Okula Dönüş Partisi
SUMMARY:Okula Dönüş Partisi
URL;VALUE=URI:https://modadenizkulubu.org.tr/etkinlikler/915
DTSTAMP:20260421T231019Z
UID:etkinlik-69e803dbc25dd@modadenizkulubu.org.tr
END:VEVENT
END:VCALENDAR
