BEGIN:VCALENDAR
VERSION:2.0
PRODID:-//hacksw/handcal//NONSGML v1.0//EN
CALSCALE:GREGORIAN
BEGIN:VEVENT
DTSTART;TZID=Europe/Istanbul:20240127
DTEND;TZID=Europe/Istanbul:20240127T235959
DESCRIPTION:Nedime Girişken
SUMMARY:Nedime Girişken
URL;VALUE=URI:https://www.modadenizkulubu.org.tr/etkinlikler/919
DTSTAMP:20260421T194218Z
UID:etkinlik-69e7d31a9439b@modadenizkulubu.org.tr
END:VEVENT
END:VCALENDAR
