BEGIN:VCALENDAR
VERSION:2.0
PRODID:-//hacksw/handcal//NONSGML v1.0//EN
CALSCALE:GREGORIAN
BEGIN:VEVENT
DTSTART;TZID=Europe/Istanbul:20230415
DTEND;TZID=Europe/Istanbul:20230415T235959
DESCRIPTION:Müzikli Çocuk Tiyatrosu
SUMMARY:Müzikli Çocuk Tiyatrosu
URL;VALUE=URI:https://modadenizkulubu.org.tr/etkinlikler/777
DTSTAMP:20260422T042020Z
UID:etkinlik-69e84c84b6512@modadenizkulubu.org.tr
END:VEVENT
END:VCALENDAR
