BEGIN:VCALENDAR
VERSION:2.0
PRODID:-//hacksw/handcal//NONSGML v1.0//EN
CALSCALE:GREGORIAN
BEGIN:VEVENT
DTSTART;TZID=Europe/Istanbul:20230325
DTEND;TZID=Europe/Istanbul:20230325T235959
DESCRIPTION:Müzikli Çocuk Tiyatrosu ''Bal Arısı ve Yaban Arısı''
SUMMARY:Müzikli Çocuk Tiyatrosu ''Bal Arısı ve Yaban Arısı''
URL;VALUE=URI:https://modadenizkulubu.org.tr/etkinlikler/758
DTSTAMP:20260422T055142Z
UID:etkinlik-69e861eed5493@modadenizkulubu.org.tr
END:VEVENT
END:VCALENDAR
