BEGIN:VCALENDAR
VERSION:2.0
PRODID:-//hacksw/handcal//NONSGML v1.0//EN
CALSCALE:GREGORIAN
BEGIN:VEVENT
DTSTART;TZID=Europe/Istanbul:20260211T190000
DTEND;TZID=Europe/Istanbul:20260211T210000
DESCRIPTION:Misafir Şef "Chocolate in Love"
SUMMARY:Misafir Şef "Chocolate in Love"
URL;VALUE=URI:https://modadenizkulubu.org.tr/etkinlikler/1247
DTSTAMP:20260421T041605Z
UID:etkinlik-69e6fa05b1cbd@modadenizkulubu.org.tr
END:VEVENT
END:VCALENDAR
