BEGIN:VCALENDAR
VERSION:2.0
PRODID:-//hacksw/handcal//NONSGML v1.0//EN
CALSCALE:GREGORIAN
BEGIN:VEVENT
DTSTART;TZID=Europe/Istanbul:20240203
DTEND;TZID=Europe/Istanbul:20240203T235959
DESCRIPTION:Lara Çayan
SUMMARY:Lara Çayan
URL;VALUE=URI:https://modadenizkulubu.org.tr/etkinlikler/917
DTSTAMP:20260421T230937Z
UID:etkinlik-69e803b1607b2@modadenizkulubu.org.tr
END:VEVENT
END:VCALENDAR
