BEGIN:VCALENDAR
VERSION:2.0
PRODID:-//hacksw/handcal//NONSGML v1.0//EN
CALSCALE:GREGORIAN
BEGIN:VEVENT
DTSTART;TZID=Europe/Istanbul:20250408
DTEND;TZID=Europe/Istanbul:20250408T235959
DESCRIPTION:Kulübümüzün Kuruluşunun 90. Yıl Dönümü
SUMMARY:Kulübümüzün Kuruluşunun 90. Yıl Dönümü
URL;VALUE=URI:https://modadenizkulubu.org.tr/etkinlikler/1097
DTSTAMP:20260421T114154Z
UID:etkinlik-69e7628279b8f@modadenizkulubu.org.tr
END:VEVENT
END:VCALENDAR
