BEGIN:VCALENDAR
VERSION:2.0
PRODID:-//hacksw/handcal//NONSGML v1.0//EN
CALSCALE:GREGORIAN
BEGIN:VEVENT
DTSTART;TZID=Europe/Istanbul:20230516
DTEND;TZID=Europe/Istanbul:20230516T235959
DESCRIPTION:Klasik Müzik Sohbetleri 
SUMMARY:Klasik Müzik Sohbetleri 
URL;VALUE=URI:https://modadenizkulubu.org.tr/etkinlikler/785
DTSTAMP:20260422T023218Z
UID:etkinlik-69e8333230a02@modadenizkulubu.org.tr
END:VEVENT
END:VCALENDAR
