BEGIN:VCALENDAR
VERSION:2.0
PRODID:-//hacksw/handcal//NONSGML v1.0//EN
CALSCALE:GREGORIAN
BEGIN:VEVENT
DTSTART;TZID=Europe/Istanbul:20240222
DTEND;TZID=Europe/Istanbul:20240222T235959
DESCRIPTION:Kariyer Söyleşiler
SUMMARY:Kariyer Söyleşiler
URL;VALUE=URI:https://modadenizkulubu.org.tr/etkinlikler/925
DTSTAMP:20260421T230750Z
UID:etkinlik-69e803461e323@modadenizkulubu.org.tr
END:VEVENT
END:VCALENDAR
