BEGIN:VCALENDAR
VERSION:2.0
PRODID:-//hacksw/handcal//NONSGML v1.0//EN
CALSCALE:GREGORIAN
BEGIN:VEVENT
DTSTART;TZID=Europe/Istanbul:20230506
DTEND;TZID=Europe/Istanbul:20230506T235959
DESCRIPTION:İskender Paydaş ve Orkestrası 
SUMMARY:İskender Paydaş ve Orkestrası 
URL;VALUE=URI:https://modadenizkulubu.org.tr/etkinlikler/778
DTSTAMP:20260422T023245Z
UID:etkinlik-69e8334d21d2e@modadenizkulubu.org.tr
END:VEVENT
END:VCALENDAR
