BEGIN:VCALENDAR
VERSION:2.0
PRODID:-//hacksw/handcal//NONSGML v1.0//EN
CALSCALE:GREGORIAN
BEGIN:VEVENT
DTSTART;TZID=Europe/Istanbul:20250509
DTEND;TZID=Europe/Istanbul:20250509T235959
DESCRIPTION:İskender Paydaş	
SUMMARY:İskender Paydaş	
URL;VALUE=URI:https://modadenizkulubu.org.tr/etkinlikler/1107
DTSTAMP:20260421T101442Z
UID:etkinlik-69e74e12ea2dc@modadenizkulubu.org.tr
END:VEVENT
END:VCALENDAR
