BEGIN:VCALENDAR
VERSION:2.0
PRODID:-//hacksw/handcal//NONSGML v1.0//EN
CALSCALE:GREGORIAN
BEGIN:VEVENT
DTSTART;TZID=Europe/Istanbul:20260522
DTEND;TZID=Europe/Istanbul:20260522
DESCRIPTION:İpek Göztepe
SUMMARY:İpek Göztepe
URL;VALUE=URI:https://modadenizkulubu.org.tr/etkinlikler/3243
DTSTAMP:20260425T124655Z
UID:etkinlik-69ecb7bfca381@modadenizkulubu.org.tr
END:VEVENT
END:VCALENDAR
