BEGIN:VCALENDAR
VERSION:2.0
PRODID:-//hacksw/handcal//NONSGML v1.0//EN
CALSCALE:GREGORIAN
BEGIN:VEVENT
DTSTART;TZID=Europe/Istanbul:20250430
DTEND;TZID=Europe/Istanbul:20250430T235959
DESCRIPTION:İlham Veren Sohbetler
SUMMARY:İlham Veren Sohbetler
URL;VALUE=URI:https://modadenizkulubu.org.tr/etkinlikler/1105
DTSTAMP:20260421T114110Z
UID:etkinlik-69e7625653f77@modadenizkulubu.org.tr
END:VEVENT
END:VCALENDAR
