BEGIN:VCALENDAR
VERSION:2.0
PRODID:-//hacksw/handcal//NONSGML v1.0//EN
CALSCALE:GREGORIAN
BEGIN:VEVENT
DTSTART;TZID=Europe/Istanbul:20230508
DTEND;TZID=Europe/Istanbul:20230508T235959
DESCRIPTION:Hülya Botasun Sanatçı Sofraları ''Damien Hirst''
SUMMARY:Hülya Botasun Sanatçı Sofraları ''Damien Hirst''
URL;VALUE=URI:https://modadenizkulubu.org.tr/etkinlikler/783
DTSTAMP:20260422T023304Z
UID:etkinlik-69e83360c652d@modadenizkulubu.org.tr
END:VEVENT
END:VCALENDAR
