BEGIN:VCALENDAR
VERSION:2.0
PRODID:-//hacksw/handcal//NONSGML v1.0//EN
CALSCALE:GREGORIAN
BEGIN:VEVENT
DTSTART;TZID=Europe/Istanbul:20240110
DTEND;TZID=Europe/Istanbul:20240110T235959
DESCRIPTION:Hülya Botasun ile Sanatçı Sofraları
SUMMARY:Hülya Botasun ile Sanatçı Sofraları
URL;VALUE=URI:https://modadenizkulubu.org.tr/etkinlikler/891
DTSTAMP:20260422T004959Z
UID:etkinlik-69e81b37a8a99@modadenizkulubu.org.tr
END:VEVENT
END:VCALENDAR
