BEGIN:VCALENDAR
VERSION:2.0
PRODID:-//hacksw/handcal//NONSGML v1.0//EN
CALSCALE:GREGORIAN
BEGIN:VEVENT
DTSTART;TZID=Europe/Istanbul:20240417
DTEND;TZID=Europe/Istanbul:20240417T235959
DESCRIPTION:Hülya Botasun ile Sanatçı Sofraları ''Dora Maar'
SUMMARY:Hülya Botasun ile Sanatçı Sofraları ''Dora Maar'
URL;VALUE=URI:https://modadenizkulubu.org.tr/etkinlikler/945
DTSTAMP:20260421T194527Z
UID:etkinlik-69e7d3d7570cd@modadenizkulubu.org.tr
END:VEVENT
END:VCALENDAR
