BEGIN:VCALENDAR
VERSION:2.0
PRODID:-//hacksw/handcal//NONSGML v1.0//EN
CALSCALE:GREGORIAN
BEGIN:VEVENT
DTSTART;TZID=Europe/Istanbul:20230313
DTEND;TZID=Europe/Istanbul:20230313T235959
DESCRIPTION:Hülya Botasun ile Sanatçı Sofraları 
SUMMARY:Hülya Botasun ile Sanatçı Sofraları 
URL;VALUE=URI:https://modadenizkulubu.org.tr/etkinlikler/755
DTSTAMP:20260422T055211Z
UID:etkinlik-69e8620b93854@modadenizkulubu.org.tr
END:VEVENT
END:VCALENDAR
