BEGIN:VCALENDAR
VERSION:2.0
PRODID:-//hacksw/handcal//NONSGML v1.0//EN
CALSCALE:GREGORIAN
BEGIN:VEVENT
DTSTART;TZID=Europe/Istanbul:20230331
DTEND;TZID=Europe/Istanbul:20230331T235959
DESCRIPTION:Hatay Akademi Senfoni Orkestrası '' Dayanışma Konseri''
SUMMARY:Hatay Akademi Senfoni Orkestrası '' Dayanışma Konseri''
URL;VALUE=URI:https://modadenizkulubu.org.tr/etkinlikler/775
DTSTAMP:20260422T055141Z
UID:etkinlik-69e861eddf394@modadenizkulubu.org.tr
END:VEVENT
END:VCALENDAR
