BEGIN:VCALENDAR
VERSION:2.0
PRODID:-//hacksw/handcal//NONSGML v1.0//EN
CALSCALE:GREGORIAN
BEGIN:VEVENT
DTSTART;TZID=Europe/Istanbul:20240504
DTEND;TZID=Europe/Istanbul:20240504T235959
DESCRIPTION:Hale Caneroğlu
SUMMARY:Hale Caneroğlu
URL;VALUE=URI:https://modadenizkulubu.org.tr/etkinlikler/957
DTSTAMP:20260421T180458Z
UID:etkinlik-69e7bc4ad19c2@modadenizkulubu.org.tr
END:VEVENT
END:VCALENDAR
