BEGIN:VCALENDAR
VERSION:2.0
PRODID:-//hacksw/handcal//NONSGML v1.0//EN
CALSCALE:GREGORIAN
BEGIN:VEVENT
DTSTART;TZID=Europe/Istanbul:20250119
DTEND;TZID=Europe/Istanbul:20250119T235959
DESCRIPTION:Hafta Sonu Kahvaltı Keyfi
SUMMARY:Hafta Sonu Kahvaltı Keyfi
URL;VALUE=URI:https://modadenizkulubu.org.tr/etkinlikler/1079
DTSTAMP:20260421T163304Z
UID:etkinlik-69e7a6c04ef31@modadenizkulubu.org.tr
END:VEVENT
END:VCALENDAR
