BEGIN:VCALENDAR
VERSION:2.0
PRODID:-//hacksw/handcal//NONSGML v1.0//EN
CALSCALE:GREGORIAN
BEGIN:VEVENT
DTSTART;TZID=Europe/Istanbul:20230330
DTEND;TZID=Europe/Istanbul:20230330T235959
DESCRIPTION:Günübirlik Zeyrek-Süleymaniye-Vefa Turu
SUMMARY:Günübirlik Zeyrek-Süleymaniye-Vefa Turu
URL;VALUE=URI:https://modadenizkulubu.org.tr/etkinlikler/763
DTSTAMP:20260422T055103Z
UID:etkinlik-69e861c7e4a1b@modadenizkulubu.org.tr
END:VEVENT
END:VCALENDAR
