BEGIN:VCALENDAR
VERSION:2.0
PRODID:-//hacksw/handcal//NONSGML v1.0//EN
CALSCALE:GREGORIAN
BEGIN:VEVENT
DTSTART;TZID=Europe/Istanbul:20250529
DTEND;TZID=Europe/Istanbul:20250529T235959
DESCRIPTION:Günübirlik Ķültür Gezisi
SUMMARY:Günübirlik Ķültür Gezisi
URL;VALUE=URI:https://modadenizkulubu.org.tr/etkinlikler/1124
DTSTAMP:20260421T101401Z
UID:etkinlik-69e74de9c740d@modadenizkulubu.org.tr
END:VEVENT
END:VCALENDAR
