BEGIN:VCALENDAR
VERSION:2.0
PRODID:-//hacksw/handcal//NONSGML v1.0//EN
CALSCALE:GREGORIAN
BEGIN:VEVENT
DTSTART;TZID=Europe/Istanbul:20230530
DTEND;TZID=Europe/Istanbul:20230530T235959
DESCRIPTION:Günübirlik Şehir Turu 
SUMMARY:Günübirlik Şehir Turu 
URL;VALUE=URI:https://modadenizkulubu.org.tr/etkinlikler/795
DTSTAMP:20260422T023406Z
UID:etkinlik-69e8339e7402b@modadenizkulubu.org.tr
END:VEVENT
END:VCALENDAR
