BEGIN:VCALENDAR
VERSION:2.0
PRODID:-//hacksw/handcal//NONSGML v1.0//EN
CALSCALE:GREGORIAN
BEGIN:VEVENT
DTSTART;TZID=Europe/Istanbul:20250128
DTEND;TZID=Europe/Istanbul:20250128T235959
DESCRIPTION:Günübirlik Kültür Gezisi 
SUMMARY:Günübirlik Kültür Gezisi 
URL;VALUE=URI:https://modadenizkulubu.org.tr/etkinlikler/1073
DTSTAMP:20260421T162159Z
UID:etkinlik-69e7a4275afb7@modadenizkulubu.org.tr
END:VEVENT
END:VCALENDAR
