BEGIN:VCALENDAR
VERSION:2.0
PRODID:-//hacksw/handcal//NONSGML v1.0//EN
CALSCALE:GREGORIAN
BEGIN:VEVENT
DTSTART;TZID=Europe/Istanbul:20250416
DTEND;TZID=Europe/Istanbul:20250416T235959
DESCRIPTION:Gin & Tapas Night
SUMMARY:Gin & Tapas Night
URL;VALUE=URI:https://modadenizkulubu.org.tr/etkinlikler/1101
DTSTAMP:20260421T114147Z
UID:etkinlik-69e7627b8b2ec@modadenizkulubu.org.tr
END:VEVENT
END:VCALENDAR
