BEGIN:VCALENDAR
VERSION:2.0
PRODID:-//hacksw/handcal//NONSGML v1.0//EN
CALSCALE:GREGORIAN
BEGIN:VEVENT
DTSTART;TZID=Europe/Istanbul:20240530
DTEND;TZID=Europe/Istanbul:20240530T235959
DESCRIPTION:Geleneksel Yaza Merhaba 
SUMMARY:Geleneksel Yaza Merhaba 
URL;VALUE=URI:https://modadenizkulubu.org.tr/etkinlikler/973
DTSTAMP:20260421T180302Z
UID:etkinlik-69e7bbd6bd7f6@modadenizkulubu.org.tr
END:VEVENT
END:VCALENDAR
