BEGIN:VCALENDAR
VERSION:2.0
PRODID:-//hacksw/handcal//NONSGML v1.0//EN
CALSCALE:GREGORIAN
BEGIN:VEVENT
DTSTART;TZID=Europe/Istanbul:20230527
DTEND;TZID=Europe/Istanbul:20230527T235959
DESCRIPTION:Ezgi Gergin 
SUMMARY:Ezgi Gergin 
URL;VALUE=URI:https://modadenizkulubu.org.tr/etkinlikler/797
DTSTAMP:20260422T023245Z
UID:etkinlik-69e8334d1e36d@modadenizkulubu.org.tr
END:VEVENT
END:VCALENDAR
