BEGIN:VCALENDAR
VERSION:2.0
PRODID:-//hacksw/handcal//NONSGML v1.0//EN
CALSCALE:GREGORIAN
BEGIN:VEVENT
DTSTART;TZID=Europe/Istanbul:20240308
DTEND;TZID=Europe/Istanbul:20240308T235959
DESCRIPTION:Dünya Kadınlar Günü
SUMMARY:Dünya Kadınlar Günü
URL;VALUE=URI:https://modadenizkulubu.org.tr/etkinlikler/926
DTSTAMP:20260421T213242Z
UID:etkinlik-69e7ecfa657b4@modadenizkulubu.org.tr
END:VEVENT
END:VCALENDAR
