BEGIN:VCALENDAR
VERSION:2.0
PRODID:-//hacksw/handcal//NONSGML v1.0//EN
CALSCALE:GREGORIAN
BEGIN:VEVENT
DTSTART;TZID=Europe/Istanbul:20250306
DTEND;TZID=Europe/Istanbul:20250306T235959
DESCRIPTION:Dünya Kadınlar Günü Etkinliği
SUMMARY:Dünya Kadınlar Günü Etkinliği
URL;VALUE=URI:https://modadenizkulubu.org.tr/etkinlikler/1087
DTSTAMP:20260421T130249Z
UID:etkinlik-69e77579c6a14@modadenizkulubu.org.tr
END:VEVENT
END:VCALENDAR
