BEGIN:VCALENDAR
VERSION:2.0
PRODID:-//hacksw/handcal//NONSGML v1.0//EN
CALSCALE:GREGORIAN
BEGIN:VEVENT
DTSTART;TZID=Europe/Istanbul:20240418
DTEND;TZID=Europe/Istanbul:20240418T235959
DESCRIPTION:Dev Ekranda Maç Keyfi
SUMMARY:Dev Ekranda Maç Keyfi
URL;VALUE=URI:https://modadenizkulubu.org.tr/etkinlikler/954
DTSTAMP:20260421T194402Z
UID:etkinlik-69e7d382df732@modadenizkulubu.org.tr
END:VEVENT
END:VCALENDAR
